BEGIN:VCALENDAR
VERSION:2.0
PRODID:-//Herwaldt Motorsports - ECPv6.9.0//NONSGML v1.0//EN
CALSCALE:GREGORIAN
METHOD:PUBLISH
X-WR-CALNAME:Herwaldt Motorsports
X-ORIGINAL-URL:https://www.herwaldt.com
X-WR-CALDESC:Events for Herwaldt Motorsports
REFRESH-INTERVAL;VALUE=DURATION:PT1H
X-Robots-Tag:noindex
X-PUBLISHED-TTL:PT1H
BEGIN:VTIMEZONE
TZID:UTC
BEGIN:STANDARD
TZOFFSETFROM:+0000
TZOFFSETTO:+0000
TZNAME:UTC
DTSTART:20240101T000000
END:STANDARD
END:VTIMEZONE
BEGIN:VEVENT
DTSTART;TZID=UTC:20250301T093000
DTEND;TZID=UTC:20250301T140000
DTSTAMP:20260423T045649
CREATED:20250205T202523Z
LAST-MODIFIED:20250205T203255Z
UID:4717-1740821400-1740837600@www.herwaldt.com
SUMMARY:IMRG Meeting and Ride - 3/1/25
DESCRIPTION:March 1\, 2025 : Meeting at 9:30 AM at HMS Indian Motorcycle Showroom.\n Afterward\, if the weather is good\, we’ll ride to Happy Burger (5120 CA-140\, Mariposa\, CA 95338).
URL:https://www.herwaldt.com/event/imrg-meeting-and-ride-1-1-25/
ATTACH;FMTTYPE=image/png:https://www.herwaldt.com/wp-content/uploads/2025/02/imrg-FRESNO-LOGO.png
END:VEVENT
BEGIN:VEVENT
DTSTART;TZID=UTC:20250222T083000
DTEND;TZID=UTC:20250222T160000
DTSTAMP:20260423T045649
CREATED:20250205T213808Z
LAST-MODIFIED:20250211T220939Z
UID:4727-1740213000-1740240000@www.herwaldt.com
SUMMARY:HMS Motorcycle Swap Meet - 2/22
DESCRIPTION:2/22/25 – HMS Motorcycle Swap Meet \nGates open at 8:30AM.  Free Event – No Vendor Fees. \nCloseout Pricing on Gear\, Helmets\, Tires\, Accessories\, Apparel and More!
URL:https://www.herwaldt.com/event/4727/
ATTACH;FMTTYPE=image/jpeg:https://www.herwaldt.com/wp-content/uploads/2025/02/BMWFresno_Socials.jpg
END:VEVENT
BEGIN:VEVENT
DTSTART;TZID=UTC:20250216T103000
DTEND;TZID=UTC:20250216T140000
DTSTAMP:20260423T045649
CREATED:20250205T202013Z
LAST-MODIFIED:20250205T203237Z
UID:4712-1739701800-1739714400@www.herwaldt.com
SUMMARY:IMRG Ride 2/16/25
DESCRIPTION:Join the Indian Motorcycle Riders Group on a ride – 2/16/25. \nMeet at Valero (3147 N Clovis Ave\, Fresno\, CA 93727) at 10:30 AM\, KSU at 10:45 AM. \nFinal Destination – Lunch at Tollhouse Market. \n \n 
URL:https://www.herwaldt.com/event/imrg-ride-2-16-25/
ATTACH;FMTTYPE=image/png:https://www.herwaldt.com/wp-content/uploads/2025/02/imrg-FRESNO-LOGO.png
END:VEVENT
BEGIN:VEVENT
DTSTART;TZID=UTC:20250215T090000
DTEND;TZID=UTC:20250215T160000
DTSTAMP:20260423T045649
CREATED:20250130T191939Z
LAST-MODIFIED:20250130T191939Z
UID:4704-1739610000-1739635200@www.herwaldt.com
SUMMARY:SWAP YOUR SWAG EVENT 2/15/25
DESCRIPTION:Swap Your Swag Event – Saturday 2/15/25.  Bring in a used motorcycle t-shirt and swap it for a limited edition Indian Motorcycle T-shirt.  Limited supplies – first come first served.  Swing by early to make sure you get a Indian T-shirt before they are gone.  All used swapped t-shirts will be donated to Salvation Army.  Gates open 9am.
URL:https://www.herwaldt.com/event/swap-your-swag-event-2-15-25/
ATTACH;FMTTYPE=image/jpeg:https://www.herwaldt.com/wp-content/uploads/2025/01/2025-imc-us-sys-web-banners-455x300-1.jpg
END:VEVENT
BEGIN:VEVENT
DTSTART;TZID=UTC:20250201T093000
DTEND;TZID=UTC:20250201T110000
DTSTAMP:20260423T045649
CREATED:20250130T185112Z
LAST-MODIFIED:20250130T185348Z
UID:4699-1738402200-1738407600@www.herwaldt.com
SUMMARY:IMRG MEETING Saturday 2/1/25
DESCRIPTION:Join us for the Indian Motorcycle Riders Group Monthly meeting at the HMS Indian Motorcycle Showroom.
URL:https://www.herwaldt.com/event/imrg-meeting-saturday-2-1-25/
ATTACH;FMTTYPE=image/png:https://www.herwaldt.com/wp-content/uploads/2025/01/IMRG.png
END:VEVENT
BEGIN:VEVENT
DTSTART;TZID=UTC:20250104T093000
DTEND;TZID=UTC:20250104T110000
DTSTAMP:20260423T045649
CREATED:20241231T230142Z
LAST-MODIFIED:20250103T174822Z
UID:4592-1735983000-1735988400@www.herwaldt.com
SUMMARY:Fresno IMRG 1st Meeting of 2025
DESCRIPTION:Join the Fresno Indian Motorcycle Riders group for the 1st meeting of 2025.  Meet Saturday 1/4/25 at the HMS Indian Motorcycle Showroom at 9:30am
URL:https://www.herwaldt.com/event/fresno-imrg-1st-meeting-of-2025/
ATTACH;FMTTYPE=image/png:https://www.herwaldt.com/wp-content/uploads/2024/12/IMRG-MEETING.png
END:VEVENT
BEGIN:VEVENT
DTSTART;VALUE=DATE:20250101
DTEND;VALUE=DATE:20250102
DTSTAMP:20260423T045649
CREATED:20241217T125927Z
LAST-MODIFIED:20241231T230312Z
UID:2268-1735689600-1735775999@www.herwaldt.com
SUMMARY:CLOSED - HAPPY NEW YEAR
DESCRIPTION:Wednesday\, January 1\, 2025 (All Day Event) \nCLOSED – HAPPY NEW YEAR
URL:https://www.herwaldt.com/event/closed-happy-new-year/
ATTACH;FMTTYPE=image/jpeg:https://www.herwaldt.com/wp-content/uploads/2024/12/C16272B9-FD05-44B3-8A05-826A18EC82D6.jpg
END:VEVENT
BEGIN:VEVENT
DTSTART;VALUE=DATE:20241231
DTEND;VALUE=DATE:20250102
DTSTAMP:20260423T045649
CREATED:20241217T125731Z
LAST-MODIFIED:20241217T125737Z
UID:2264-1735603200-1735775999@www.herwaldt.com
SUMMARY:CLOSING EARLY - NEW YEARS EVE
DESCRIPTION:Tuesday\, December 31\, 2024 (All Day Event) \nCLOSING EARLY – NEW YEARS EVE
URL:https://www.herwaldt.com/event/closing-early-new-years-eve/
ATTACH;FMTTYPE=image/jpeg:https://www.herwaldt.com/wp-content/uploads/2024/12/C16272B9-FD05-44B3-8A05-826A18EC82D6.jpg
END:VEVENT
BEGIN:VEVENT
DTSTART;VALUE=DATE:20241225
DTEND;VALUE=DATE:20241226
DTSTAMP:20260423T045649
CREATED:20241217T125833Z
LAST-MODIFIED:20241217T125833Z
UID:2266-1735084800-1735171199@www.herwaldt.com
SUMMARY:CLOSED - MERRY CHRISTMAS
DESCRIPTION:Wednesday\, December 25\, 2024 (All Day Event) \nCLOSED – MERRY CHRISTMAS
URL:https://www.herwaldt.com/event/closed-merry-christmas-2/
ATTACH;FMTTYPE=image/jpeg:https://www.herwaldt.com/wp-content/uploads/2024/12/C16272B9-FD05-44B3-8A05-826A18EC82D6.jpg
END:VEVENT
END:VCALENDAR